BEGIN:VCALENDAR
VERSION:2.0
PRODID:-//wp-events-plugin.com//7.2.3.1//EN
BEGIN:VEVENT
UID:12@ceas72.fr
DTSTART;TZID=Europe/Paris:20250512T173000
DTEND;TZID=Europe/Paris:20250512T203000
DTSTAMP:20250304T153322Z
URL:https://www.ceas72.fr/events/booster-sa-confiance-en-soi-et-en-son-pro
 jet-2/
SUMMARY:Booster sa confiance ! (En soi et en son projet)
DESCRIPTION:Se lancer dans l’aventure de son projet peut être un saut ef
 frayant vers l’inconnu ! Le CEAS72 vous propose un atelier pour booster 
 votre confiance !\nDécouvrez l’adéquation entre votre identité et vot
 re projet\, sortez de votre zone de confort\, identifiez vos peurs et dép
 assez les !\nLundi 12 Mai 2025 de 17h30 à 20h30 au CEAS72\n\nSur inscript
 ion : https://forms.gle/dWrC5ubUsjeKaA2v9\n\n&nbsp\;
LOCATION:CEAS72\, 7 Avenue René Laennec\, LE MANS\, 72000\, France
X-APPLE-STRUCTURED-LOCATION;VALUE=URI;X-ADDRESS=7 Avenue René Laennec\, LE
  MANS\, 72000\, France;X-APPLE-RADIUS=100;X-TITLE=CEAS72:geo:0,0
END:VEVENT
BEGIN:VTIMEZONE
TZID:Europe/Paris
X-LIC-LOCATION:Europe/Paris
BEGIN:DAYLIGHT
DTSTART:20250330T030000
TZOFFSETFROM:+0100
TZOFFSETTO:+0200
TZNAME:CEST
END:DAYLIGHT
END:VTIMEZONE
END:VCALENDAR