BEGIN:VCALENDAR
VERSION:2.0
PRODID:-//wp-events-plugin.com//7.2.3.1//EN
BEGIN:VEVENT
UID:7@ceas72.fr
DTSTART;TZID=Europe/Paris:20250203T180000
DTEND;TZID=Europe/Paris:20250203T200000
DTSTAMP:20241219T161654Z
URL:https://www.ceas72.fr/events/gestion-biodechets-ardvina/
SUMMARY:Cap vers une alimentation durable – Etape 2 ! La gestion des bio
 déchets avec Ardvina
DESCRIPTION:\n\nVous voulez en savoir plus sur la REVALORISATION ? Venez d
 écouvrir le projet Ardvina : un partenaire des professionnels dans la g
 estion des biodéchets. Ardvina accompagne les entreprises qui ont des dé
 chets organiques et les aide à optimiser la réduction et le réemploi d
 e leurs biodéchets.\n\nAu programme :\n\n\n\n 	Découvrez le projet Ardv
 ina\, l’origine du projet et son fonctionnement\n 	Echangez sur les enje
 ux de la filière du compost\n 	Quels sont les freins rencontrés et les s
 uccès dans la mise en place d’un tel projet ?\n 	Présentation des par
 tenaires et accompagnateurs du projet\n\nDate : Lundi 3 Février de 18h 
 à 20h\nLieu : Le Hangar Créalab – 43 Rue d’Alger 72100 LE MANS\nSur
  inscription : https://forms.gle/c7p1CCNzHYr1iXwn8
ATTACH;FMTTYPE=image/jpeg:https://www.ceas72.fr/wp-content/uploads/2024/12
 /Rencontres-alimentation-durable-5.png
END:VEVENT
BEGIN:VTIMEZONE
TZID:Europe/Paris
X-LIC-LOCATION:Europe/Paris
BEGIN:STANDARD
DTSTART:20241027T020000
TZOFFSETFROM:+0200
TZOFFSETTO:+0100
TZNAME:CET
END:STANDARD
END:VTIMEZONE
END:VCALENDAR