BEGIN:VCALENDAR
VERSION:2.0
PRODID:-//wp-events-plugin.com//7.2.3.1//EN
BEGIN:VEVENT
UID:58@ceas72.fr
DTSTART;TZID=Europe/Paris:20260602T100000
DTEND;TZID=Europe/Paris:20260602T120000
DTSTAMP:20260421T103708Z
URL:https://www.ceas72.fr/events/linnovation-sociale-a-portee-de-main-cult
 ivons-le-mieux-manger/
SUMMARY:L'innovation sociale à portée de main - Cultivons le mieux manger
DESCRIPTION:Alimentation durable et dynamiques de coopération sont au prog
 ramme du prochain atelier "L'innovation sociale à portée de main" : à n
 e pas manquer !\n\nPorteurs de projet\, acteurs locaux\, citoyens… Venez
  découvrir l'association Cultivons le mieux manger et son projet de Group
 ement d'achat participatif et solidaire.\n\nAu programme de ce temps concr
 et :\n\n 	Visitez le jardin de l'association\, son histoire\, les étapes 
 de construction du projet et son fonctionnement actuel\,\n 	Creusez les en
 jeux du projet\, en lien avec l'innovation sociale : comment s'est-il ancr
 é localement\, quelles coopérations avec quelles parties prenantes…\,\
 n 	Passez un moment convivial avec la possibilité de rester déjeuner ! (
 pensez à apporter votre pique-nique).\n\nUne occasion de s'inspirer\, éc
 hanger et mieux comprendre comment une idée peut devenir un projet collec
 tif à impact.\n\nMardi 2 juin de 10h à 12h (prolongations possibles pour
  déjeuner !)\nA Sablé-sur-Sarthe\, 38 rue de la Chartrie\, covoiturage p
 ossible à partir du Mans\nSur inscription : https://forms.gle/4um227C4MYN
 pwWiZ8\n\nPour plus d'informations : marianne.menant@ceas72.fr et mathieu.
 leydet@ceas72.fr / 02 43 76 51 83
ATTACH;FMTTYPE=image/jpeg:https://www.ceas72.fr/wp-content/uploads/2026/04
 /02.06.26_is-a-portee-de-main-2.png
END:VEVENT
BEGIN:VTIMEZONE
TZID:Europe/Paris
X-LIC-LOCATION:Europe/Paris
BEGIN:DAYLIGHT
DTSTART:20260329T030000
TZOFFSETFROM:+0100
TZOFFSETTO:+0200
TZNAME:CEST
END:DAYLIGHT
END:VTIMEZONE
END:VCALENDAR