BEGIN:VCALENDAR
VERSION:2.0
PRODID:-//wp-events-plugin.com//7.2.3.1//EN
BEGIN:VEVENT
UID:13@ceas72.fr
DTSTART;TZID=Europe/Paris:20250227T173000
DTEND;TZID=Europe/Paris:20250227T193000
DTSTAMP:20250210T081644Z
URL:https://www.ceas72.fr/events/mieux-comprendre-linnovation-sociale-pour
 -construire-mon-projet/
SUMMARY:Mieux comprendre l’innovation sociale pour construire mon projet
DESCRIPTION:Rencontre dédiée aux structures associatives\n\nIntervenantes
  :\n\n 	Isabelle COCHET – Chargée d’accompagnement – Responsable c
 réation d’activité\n 	Sarah DESHAYES – Chargée d’accompagnement d
 e porteurs de projets à impact\n\nAvis aux structures associatives\, le C
 EAS72 organise dans le cadre de l’appel à projet FDVA une rencontre de 
 découverte de l’innovation sociale !\n\nParticipez à cette rencontre 
 pour découvrir comment l’innovation sociale peut vous permettre de dév
 elopper de nouveaux projets.\n\nSur inscription : https://forms.gle/GnLRZ
 TGaFvkxQpD79\n\nLieu de la rencontre : CEAS72 - 7 Avenue René Laennec 720
 00 LE MANS
ATTACH;FMTTYPE=image/jpeg:https://www.ceas72.fr/wp-content/uploads/2025/02
 /27.02-Mieux-comprendre-lIS-pour-construire-projet-1.png
END:VEVENT
BEGIN:VTIMEZONE
TZID:Europe/Paris
X-LIC-LOCATION:Europe/Paris
BEGIN:STANDARD
DTSTART:20241027T020000
TZOFFSETFROM:+0200
TZOFFSETTO:+0100
TZNAME:CET
END:STANDARD
END:VTIMEZONE
END:VCALENDAR